BEGIN:VCALENDAR
VERSION:2.0
PRODID:-//Ångermanlands ornitologiska förening - ECPv6.15.17.1//NONSGML v1.0//EN
CALSCALE:GREGORIAN
METHOD:PUBLISH
X-WR-CALNAME:Ångermanlands ornitologiska förening
X-ORIGINAL-URL:https://angermanlandsof.se
X-WR-CALDESC:Händelser för Ångermanlands ornitologiska förening
REFRESH-INTERVAL;VALUE=DURATION:PT1H
X-Robots-Tag:noindex
X-PUBLISHED-TTL:PT1H
BEGIN:VTIMEZONE
TZID:Europe/Stockholm
BEGIN:DAYLIGHT
TZOFFSETFROM:+0100
TZOFFSETTO:+0200
TZNAME:CEST
DTSTART:20250330T010000
END:DAYLIGHT
BEGIN:STANDARD
TZOFFSETFROM:+0200
TZOFFSETTO:+0100
TZNAME:CET
DTSTART:20251026T010000
END:STANDARD
BEGIN:DAYLIGHT
TZOFFSETFROM:+0100
TZOFFSETTO:+0200
TZNAME:CEST
DTSTART:20260329T010000
END:DAYLIGHT
BEGIN:STANDARD
TZOFFSETFROM:+0200
TZOFFSETTO:+0100
TZNAME:CET
DTSTART:20261025T010000
END:STANDARD
BEGIN:DAYLIGHT
TZOFFSETFROM:+0100
TZOFFSETTO:+0200
TZNAME:CEST
DTSTART:20270328T010000
END:DAYLIGHT
BEGIN:STANDARD
TZOFFSETFROM:+0200
TZOFFSETTO:+0100
TZNAME:CET
DTSTART:20271031T010000
END:STANDARD
END:VTIMEZONE
BEGIN:VEVENT
DTSTART;TZID=Europe/Stockholm:20260501T080000
DTEND;TZID=Europe/Stockholm:20260501T110000
DTSTAMP:20260423T164710
CREATED:20260411T163645Z
LAST-MODIFIED:20260411T163645Z
UID:5846-1777622400-1777633200@angermanlandsof.se
SUMMARY:Fredag 1 maj - Fågelutflykt i Kramforsområdet
DESCRIPTION:Utflykt i Kramforsområdets för dagen bästa fågelmarker. \nKl. 08.00 Utflykt till antingen Noraområdet eller Ångermanälven norr om Nyland. \nAnmäl per telefon för avstämning av mötesplats och eventuell samåkning. Medtag fika och varma kläder. Samarrangemang med Naturskyddsföreningen. \nKontakt: 070-6042446. \n 
URL:https://angermanlandsof.se/evenemang/fredag-1-maj-fagelutflykt-i-kramforsomradet/
ATTACH;FMTTYPE=image/jpeg:https://cdn.birdlife.se/wp-content/uploads/sites/26/2024/05/Skadning-i-Horsang-9-maj-20.jpg
END:VEVENT
END:VCALENDAR