BEGIN:VCALENDAR
VERSION:2.0
PRODID:-//Ångermanlands ornitologiska förening - ECPv6.15.17.1//NONSGML v1.0//EN
CALSCALE:GREGORIAN
METHOD:PUBLISH
X-WR-CALNAME:Ångermanlands ornitologiska förening
X-ORIGINAL-URL:https://angermanlandsof.se
X-WR-CALDESC:Händelser för Ångermanlands ornitologiska förening
REFRESH-INTERVAL;VALUE=DURATION:PT1H
X-Robots-Tag:noindex
X-PUBLISHED-TTL:PT1H
BEGIN:VTIMEZONE
TZID:Europe/Stockholm
BEGIN:DAYLIGHT
TZOFFSETFROM:+0100
TZOFFSETTO:+0200
TZNAME:CEST
DTSTART:20250330T010000
END:DAYLIGHT
BEGIN:STANDARD
TZOFFSETFROM:+0200
TZOFFSETTO:+0100
TZNAME:CET
DTSTART:20251026T010000
END:STANDARD
BEGIN:DAYLIGHT
TZOFFSETFROM:+0100
TZOFFSETTO:+0200
TZNAME:CEST
DTSTART:20260329T010000
END:DAYLIGHT
BEGIN:STANDARD
TZOFFSETFROM:+0200
TZOFFSETTO:+0100
TZNAME:CET
DTSTART:20261025T010000
END:STANDARD
BEGIN:DAYLIGHT
TZOFFSETFROM:+0100
TZOFFSETTO:+0200
TZNAME:CEST
DTSTART:20270328T010000
END:DAYLIGHT
BEGIN:STANDARD
TZOFFSETFROM:+0200
TZOFFSETTO:+0100
TZNAME:CET
DTSTART:20271031T010000
END:STANDARD
END:VTIMEZONE
BEGIN:VEVENT
DTSTART;TZID=Europe/Stockholm:20260503T070000
DTEND;TZID=Europe/Stockholm:20260503T103000
DTSTAMP:20260424T163029
CREATED:20260328T065758Z
LAST-MODIFIED:20260328T065758Z
UID:5821-1777791600-1777804200@angermanlandsof.se
SUMMARY:Söndag 3 maj - ÅOFs årsmöte och årsmötesexkursion
DESCRIPTION:Inbjudan till ÅOFs årsmöte och årsmötesexkursion. \nVi samlas kl 7.00 vid SFK Storfiskarnas klubblokal\, Klingvägen 6 i Ö-vik. Bakom Byggmax. Se karta i inbjudan till årsmötet nedan. Vi åker till den eller de lokaler som för dagen förväntas ge bäst utdelning av fåglar. \nKl. 11.00 är det årsmöte i klubblokalen. Kallelse med dagordning till mötet hittar du här.  ÅOFs årsmöte 3 maj kl 11.00 \nVälkomna!
URL:https://angermanlandsof.se/evenemang/sondag-3-maj-aofs-arsmote-och-arsmotesexkursion/
LOCATION:SFK Storfiskarnas lokal Högland\, Klingvägen 6\, ÖRNSKÖLDSVIK\, Västernorrland\, 89139
ATTACH;FMTTYPE=image/jpeg:https://cdn.birdlife.se/wp-content/uploads/sites/26/2022/05/Idbyfjarden-4-maj-2022-nr-2-scaled.jpg
END:VEVENT
END:VCALENDAR